BEGIN:VCALENDAR
VERSION:2.0
PRODID:-//ChamberMaster//Event Calendar 2.0//EN
METHOD:PUBLISH
X-PUBLISHED-TTL:P3D
REFRESH-INTERVAL:P3D
CALSCALE:GREGORIAN
BEGIN:VEVENT
DTSTART:20240509T160000Z
DTEND:20240509T173000Z
X-MICROSOFT-CDO-ALLDAYEVENT:FALSE
SUMMARY:Annual Members & Providers Luncheon
DESCRIPTION:Members & Providers Luncheon\n\nPlease join us for an amazing lunch and setting provided by Regency Park. \n\nCome network and lunch with fellow senior service providers! \n\nGuest Speaker: Brooke Hall\, Ed.D\n\nOur special guest speaker is presenting on the topic of \n\nTrauma Informed Care and the Aging Population\n\n.\n\nThursday May 9th | 12-1:30 pm\n\nRegency Park | 910 Regency Square\, Vero Beach\n\n$22 Luncheon
X-ALT-DESC;FMTTYPE=text/html:<h1 data-pm-slice="1 1 []"><span style="font-family: 'Merriweather Sans'\, 'Helvetica Neue'\, Helvetica\, Arial\, sans-serif">Members &amp\; Providers Luncheon</span></h1>\n\n<p><span style="font-family: Arial\, 'Helvetica Neue'\, Helvetica\, sans-serif">Please join us for an amazing lunch and setting provided by Regency Park. </span></p>\n\n<p><span style="font-family: Arial\, 'Helvetica Neue'\, Helvetica\, sans-serif">Come network and lunch with fellow senior service providers! </span></p>\n\n<p><strong><span style="color:#0b8a93\;"><span style="font-size: 21px"><span style="font-family: Arial\, 'Helvetica Neue'\, Helvetica\, sans-serif">Guest Speaker: Brooke Hall\, Ed.D</span></span></span></strong></p>\n\n<p><span style="font-family: Arial\, 'Helvetica Neue'\, Helvetica\, sans-serif">Our special guest speaker is presenting on the topic of </span></p>\n\n<p><strong><span style="text-decoration-line: underline\;"><span style="font-family: Arial\, 'Helvetica Neue'\, Helvetica\, sans-serif">Trauma Informed Care and the Aging Population</span></span></strong></p>\n\n<p style="text-align: center\;"><span style="font-family: Arial\, 'Helvetica Neue'\, Helvetica\, sans-serif">.</span></p>\n\n<p><span style="font-family: Arial\, 'Helvetica Neue'\, Helvetica\, sans-serif">Thursday May 9th | 12-1:30 pm</span></p>\n\n<p><span style="font-family: Arial\, 'Helvetica Neue'\, Helvetica\, sans-serif">Regency Park | 910 Regency Square\, Vero Beach</span></p>\n\n<p><span style="font-family: Arial\, 'Helvetica Neue'\, Helvetica\, sans-serif">$22 Luncheon&nbsp\;</span></p>\n
LOCATION:Regency Park | 910 Regency Square\, Vero Beach
UID:e.9656.221
SEQUENCE:3
DTSTAMP:20260422T212435Z
URL:https://members.seniorresourceassociation.org/events/details/annual-members-providers-luncheon-221
END:VEVENT

END:VCALENDAR
