BEGIN:VCALENDAR
VERSION:2.0
PRODID:-//ChamberMaster//Event Calendar 2.0//EN
METHOD:PUBLISH
X-PUBLISHED-TTL:P3D
REFRESH-INTERVAL:P3D
CALSCALE:GREGORIAN
BEGIN:VEVENT
DTSTART:20240927T223000Z
DTEND:20240928T010000Z
X-MICROSOFT-CDO-ALLDAYEVENT:FALSE
SUMMARY:Harvest Hop Senior Dance
DESCRIPTION:Get footloose this fall with our Senior Dance!\n\nFriday\, Sept. 27\, 6:30-9:30 PM\n\nElks Club   1350 26th St\, Vero Beach\, FL 32960\n\n$25 tickets - refreshments provided and cash bar.\n\nAt Door - 1 ticket $30\, 2 tickets $55\n\nSilent Auction will be held.\n\nFor event tickets : https://www.tickettailor.com/events/seniorcollaborativeirc/1349847\n\nFor Sponsorship opportunities - please visit https://www.seniorservicesirc.org/harvest-hop/
X-ALT-DESC;FMTTYPE=text/html:<div class="xdj266r x11i5rnm xat24cr x1mh8g0r x1vvkbs" style="margin: 0px\; overflow-wrap: break-word\; font-family: &quot\;Segoe UI Historic&quot\;\, &quot\;Segoe UI&quot\;\, Helvetica\, Arial\, sans-serif\; color: rgb(5\, 5\, 5)\; font-size: 15px\;">Get footloose this fall with our Senior Dance!</div>\n\n<div class="x11i5rnm xat24cr x1mh8g0r x1vvkbs xtlvy1s" style="margin: 0.5em 0px 0px\; overflow-wrap: break-word\; font-family: &quot\;Segoe UI Historic&quot\;\, &quot\;Segoe UI&quot\;\, Helvetica\, Arial\, sans-serif\; color: rgb(5\, 5\, 5)\; font-size: 15px\;">Friday\, Sept. 27\, 6:30-9:30 PM<br class="html-br" />\nElks Club &ndash\; 1350 26th St\, Vero Beach\, FL 32960</div>\n\n<div class="x11i5rnm xat24cr x1mh8g0r x1vvkbs xtlvy1s" style="margin: 0.5em 0px 0px\; overflow-wrap: break-word\; font-family: &quot\;Segoe UI Historic&quot\;\, &quot\;Segoe UI&quot\;\, Helvetica\, Arial\, sans-serif\; color: rgb(5\, 5\, 5)\; font-size: 15px\;">$25 tickets - refreshments provided and cash bar.<br />\nAt Door - 1 ticket $30\, 2 tickets $55<br />\nSilent Auction will be held.<br />\n<strong>For event tickets :<span style="color:#FF0000\;">&nbsp\;<a href="https://www.tickettailor.com/events/seniorcollaborativeirc/1349847">https://www.tickettailor.com/events/seniorcollaborativeirc/1349847</a></span></strong></div>\n\n<div class="x11i5rnm xat24cr x1mh8g0r x1vvkbs xtlvy1s" style="margin: 0.5em 0px 0px\; overflow-wrap: break-word\; font-family: &quot\;Segoe UI Historic&quot\;\, &quot\;Segoe UI&quot\;\, Helvetica\, Arial\, sans-serif\; color: rgb(5\, 5\, 5)\; font-size: 15px\;"><strong>For Sponsorship opportunities</strong> - please visit&nbsp\;<a href="https://www.seniorservicesirc.org/harvest-hop/">https://www.seniorservicesirc.org/harvest-hop/</a></div>\n
LOCATION:
UID:e.9656.223
SEQUENCE:3
DTSTAMP:20260422T154259Z
URL:https://members.seniorresourceassociation.org/events/details/harvest-hop-senior-dance-223
END:VEVENT

END:VCALENDAR
