BEGIN:VCALENDAR
VERSION:2.0
PRODID:-//ChamberMaster//Event Calendar 2.0//EN
METHOD:PUBLISH
X-PUBLISHED-TTL:P3D
REFRESH-INTERVAL:P3D
CALSCALE:GREGORIAN
BEGIN:VEVENT
DTSTART:20250327T130000Z
DTEND:20250327T180000Z
X-MICROSOFT-CDO-ALLDAYEVENT:FALSE
SUMMARY:Senior Expo 2025
DESCRIPTION:Senior Expo 2025!\n\nJoin us for the largest Senior Expo in Indian River County on Thursday\, March 27\, 2025*! (*New Date*)\n\nWe'll once again be bringing much-needed screenings\, vaccinations\, and information to our community!\n\n90+ Vendors\n\nSpeaker Presentations on 2 Stages\n\nFree Medical Screenings/Demonstrations\n\nFood Trucks & Ocean FM Live\n\nFree Admission\n\nFree Parking & Shuttles to the Entrance\n\nInside the Air-Conditioned Expo Center\n\nOutdoor Under the Pavilion Vendor Space\n\n\n\nTo register as a vendor\, please visit:\n\nhttps://www.seniorservicesirc.org/senior-expo/
X-ALT-DESC;FMTTYPE=text/html:<div class="xdj266r x11i5rnm xat24cr x1mh8g0r x1vvkbs" style="margin: 0px\; overflow-wrap: break-word\; font-family: &quot\;Segoe UI Historic&quot\;\, &quot\;Segoe UI&quot\;\, Helvetica\, Arial\, sans-serif\; color: rgb(5\, 5\, 5)\; font-size: 15px\;"><span style="font-size:20px\;"><span style="font-family:tahoma\;"><strong>Senior Expo 2025!<br class="html-br" />\nJoin us for the largest Senior Expo in Indian River County on Thursday\, March 27\, 2025*! (*New Date*)</strong></span></span></div>\n\n<div class="x11i5rnm xat24cr x1mh8g0r x1vvkbs xtlvy1s" style="margin: 0.5em 0px 0px\; overflow-wrap: break-word\; font-family: &quot\;Segoe UI Historic&quot\;\, &quot\;Segoe UI&quot\;\, Helvetica\, Arial\, sans-serif\; color: rgb(5\, 5\, 5)\; font-size: 15px\;">We&rsquo\;ll once again be bringing much-needed screenings\, vaccinations\, and information to our community!</div>\n\n<div class="x11i5rnm xat24cr x1mh8g0r x1vvkbs xtlvy1s" style="margin: 0.5em 0px 0px\; overflow-wrap: break-word\; font-family: &quot\;Segoe UI Historic&quot\;\, &quot\;Segoe UI&quot\;\, Helvetica\, Arial\, sans-serif\; color: rgb(5\, 5\, 5)\; font-size: 15px\;">90+ Vendors<br class="html-br" />\nSpeaker Presentations on 2 Stages<br class="html-br" />\nFree Medical Screenings/Demonstrations<br class="html-br" />\nFood Trucks &amp\; Ocean FM Live<br class="html-br" />\nFree Admission<br class="html-br" />\nFree Parking &amp\; Shuttles to the Entrance<br class="html-br" />\nInside the Air-Conditioned Expo Center<br class="html-br" />\nOutdoor Under the Pavilion Vendor Space<br />\n<br />\nTo register as a vendor\, please visit:<br />\nhttps://www.seniorservicesirc.org/senior-expo/</div>\n
LOCATION:IRC Fairgrounds - Inside Expo Center and Outside Under the Pavilion
UID:e.9656.224
SEQUENCE:3
DTSTAMP:20260422T061540Z
URL:https://members.seniorresourceassociation.org/events/details/senior-expo-2025-224
END:VEVENT

END:VCALENDAR
