BEGIN:VCALENDAR
VERSION:2.0
PRODID:-//ChamberMaster//Event Calendar 2.0//EN
METHOD:PUBLISH
X-PUBLISHED-TTL:P3D
REFRESH-INTERVAL:P3D
CALSCALE:GREGORIAN
BEGIN:VEVENT
DTSTART:20260212T150000Z
DTEND:20260212T160000Z
X-MICROSOFT-CDO-ALLDAYEVENT:FALSE
SUMMARY:Silver Tones Concert - Favorite Love Songs of all Time
DESCRIPTION:Join us for Favorite Love Songs of all Time\, a heartwarming concert by the Silver Tones choral group. This festive performance celebrates the season with timeless melodies and uplifting harmonies.
X-ALT-DESC;FMTTYPE=text/html:<p>Join us for <span style="font-size:14px\;"><span style="color: rgb(39\, 88\, 92)\; font-family: Montserrat\; letter-spacing: 0.3px\;">Favorite Love Songs of all Time</span></span>\, a heartwarming concert by the Silver Tones choral group. This festive performance celebrates the season with timeless melodies and uplifting harmonies.</p>\n
LOCATION:First Presbyterian Church 520 Royal Palm Blvd. Vero Beach\, FL 32960 **Please note this season's concerts will be held at McAfee Hall**
UID:e.9656.227
SEQUENCE:3
DTSTAMP:20260421T124922Z
URL:https://members.seniorresourceassociation.org/events/details/silver-tones-concert-favorite-love-songs-of-all-time-227
END:VEVENT

END:VCALENDAR
