BEGIN:VCALENDAR
VERSION:2.0
PRODID:-//ChamberMaster//Event Calendar 2.0//EN
METHOD:PUBLISH
X-PUBLISHED-TTL:P3D
REFRESH-INTERVAL:P3D
CALSCALE:GREGORIAN
BEGIN:VEVENT
DTSTART:20251218T230000Z
DTEND:20251219T000000Z
X-MICROSOFT-CDO-ALLDAYEVENT:FALSE
SUMMARY:Silver Tones Concert - Songs of Peace and Joy for the Holidays
DESCRIPTION:Join us for Songs of Peace and Joy for the Holidays\, a heartwarming concert by the Silver Tones choral group. This festive performance celebrates the season with timeless melodies and uplifting harmonies.
X-ALT-DESC;FMTTYPE=text/html:<p>Join us for <em>Songs of Peace and Joy for the Holidays</em>\, a heartwarming concert by the Silver Tones choral group. This festive performance celebrates the season with timeless melodies and uplifting harmonies.</p>\n
LOCATION:First Presbyterian Church 520 Royal Palm Blvd. Vero Beach\, FL 32960 **Please note this season's concerts will be held at McAfee Hall**
UID:e.9656.225
SEQUENCE:3
DTSTAMP:20260421T160422Z
URL:https://members.seniorresourceassociation.org/events/details/silver-tones-concert-songs-of-peace-and-joy-for-the-holidays-225
END:VEVENT

END:VCALENDAR
