BEGIN:VCALENDAR
VERSION:2.0
PRODID:-//ChamberMaster//Event Calendar 2.0//EN
METHOD:PUBLISH
X-PUBLISHED-TTL:P3D
REFRESH-INTERVAL:P3D
CALSCALE:GREGORIAN
BEGIN:VEVENT
DTSTART:20240724T130000Z
DTEND:20240724T170000Z
X-MICROSOFT-CDO-ALLDAYEVENT:FALSE
SUMMARY:Trauma Informed Care and the Aging Population
DESCRIPTION:Trauma Informed Care and the Aging Population
X-ALT-DESC;FMTTYPE=text/html:<h1 class="event-title css-0" style="font-size: 3.25rem\; margin-top: 0px\; margin-right: 0px\; margin-bottom: calc(4*var(--base-unit))\; margin-left: 0px\; padding: 0px\; box-sizing: border-box\; color: rgb(30\, 10\, 60)\; font-weight: 800\; word-break: break-word\; line-height: 4rem\; font-family: &quot\;Neue Plak&quot\;\, -apple-system\, BlinkMacSystemFont\, Roboto\, &quot\;Helvetica Neue&quot\;\, Helvetica\, Tahoma\, Arial\, sans-serif\;">Trauma Informed Care and the Aging Population</h1>\n
LOCATION:Heron Point formerly Regency Park/Harbor Chase 910 Regency Square
UID:e.9656.222
SEQUENCE:3
DTSTAMP:20260422T181631Z
URL:https://members.seniorresourceassociation.org/events/details/trauma-informed-care-and-the-aging-population-222
END:VEVENT

END:VCALENDAR
